BEGIN:VCALENDAR
VERSION:2.0
PRODID:-//eventon.com NONSGML v1.0//EN
CALSCALE:GREGORIAN
METHOD:PUBLISH
BEGIN:VEVENT
UID:69ea093f62573
DTSTAMP:20260423T115751Z
DTSTART:20260702T230000Z
DTEND:20260703T021500Z
LOCATION:
SUMMARY:Danny Gokey
DESCRIPTION:** Please Note VIP Tickets $65 includes premium seats and Exclu
 sive post-show Meet &amp; Greet (limited tickets). Three-time Grammy Nomine
 e\,  KLOVE Male Vocalist of the Year and Dove Award winner\,  Danny Gokey b
 ecame a favorite of millions as a Top 3 finalist on Season Eight of America
 n Idol. Following Idol\, [..]\nhttps://wadsworthsquare.org/events-calendar/
 danny-gokey/
URL:https://wadsworthsquare.org/events-calendar/danny-gokey/
END:VEVENT
END:VCALENDAR