BEGIN:VCALENDAR
VERSION:2.0
PRODID:-//eventon.com NONSGML v1.0//EN
CALSCALE:GREGORIAN
METHOD:PUBLISH
BEGIN:VEVENT
UID:69e9dc281db14
DTSTAMP:20260423T084528Z
DTSTART:20251224T000000Z
DTEND:20251224T040000Z
LOCATION:The Celestia Theater 151 Main Street\,  Wadsworth\,  Ohio 44281
SUMMARY:A Crooner’s Christmas – Hayden Grove & Lucia Flores-Wiseman
DESCRIPTION:Join us for our Grand Opening of the Celestia Theater at Wadswo
 rth Square as we welcome – – HAYDEN GROVE &amp; LUCIA FLORES-WISEMAN (f
 rom “the VOICE”) and their 12 piece big band! It’s their FIRST dual h
 eadlining performance since the VOICE!  Join us for an amazing night on De
 cember 23rd![..]\nhttps://wadsworthsquare.org/events-calendar/a-crooners-ch
 ristmas-hayden-grove-lucia-flores-wiseman/
URL:https://wadsworthsquare.org/events-calendar/a-crooners-christmas-hayden-grove-lucia-flores-wiseman/
END:VEVENT
END:VCALENDAR