BEGIN:VCALENDAR
VERSION:2.0
PRODID:-//eventon.com NONSGML v1.0//EN
CALSCALE:GREGORIAN
METHOD:PUBLISH
BEGIN:VEVENT
UID:69e73386c0641
DTSTAMP:20260421T082126Z
DTSTART:20260314T000000Z
DTEND:20260314T030000Z
LOCATION:The Celestia Theater 151 Main Street\,  Wadsworth\,  Ohio 44281
SUMMARY:RED WANTING BLUE with Somasonic
DESCRIPTION:Join us for an AMAZING NIGHT with National Recording Artist\,  
 Red Wanting Blue! Hailed as “Midwestern rock heroes” by American Songwr
 iter\,  Red Wanting Blue has spent the better part of last three decades on
  the road\,  blazing their own unique trail through the American heartland 
 as they built up a[..]\nhttps://wadsworthsquare.org/events-calendar/redwant
 ingblue2026/
URL:https://wadsworthsquare.org/events-calendar/redwantingblue2026/
END:VEVENT
END:VCALENDAR