BEGIN:VCALENDAR
VERSION:2.0
PRODID:-//eventon.com NONSGML v1.0//EN
CALSCALE:GREGORIAN
METHOD:PUBLISH
BEGIN:VEVENT
UID:69e747b5c56a5
DTSTAMP:20260421T094733Z
DTSTART:20260328T000000Z
DTEND:20260328T030000Z
LOCATION:The Celestia Theater 151 Main Street\,  Wadsworth\,  Ohio 44281
SUMMARY:The Celestia Honors: TOM PETTY with Kings Highway
DESCRIPTION:The Celestia Theater Presents: A Concert to Honor Tom Petty &am
 p; the Heartbreakers Featuring – Kings Highway King’s Highway is the ul
 timate tribute to Tom Petty and the Heartbreakers. Recreating the sights an
 d sounds of one of the world’s top hit makers. Tom Petty (1950-2017) was 
 an iconic American rock[..]\nhttps://wadsworthsquare.org/events-calendar/to
 mpettyhonors/
URL:https://wadsworthsquare.org/events-calendar/tompettyhonors/
END:VEVENT
END:VCALENDAR