BEGIN:VCALENDAR
VERSION:2.0
PRODID:-//eventon.com NONSGML v1.0//EN
CALSCALE:GREGORIAN
METHOD:PUBLISH
BEGIN:VEVENT
UID:69ec9a874821d
DTSTAMP:20260425T104215Z
DTSTART:20260523T000000Z
DTEND:20260523T030000Z
LOCATION:The Celestia Theater 151 Main Street\,  Wadsworth\,  Ohio 44281
SUMMARY:NERD HALEN featuring Hal Sparks
DESCRIPTION:The Mighty Nerd Halen is a Rock &#8216;n Roll/Comedy Experience
  positively unlike any other ever seen or heard! Where unapologetic Big Roc
 k featuring EVH guitar wizardry and continuous Big Laughs are delivered by 
 well-known actor/comedian Hal Sparks along with musicians who&#8217;ve work
 ed in musical comedy theater and backed up over[..]\nhttps://wadsworthsquar
 e.org/events-calendar/nerd-halen-featuring-hal-sparks/
URL:https://wadsworthsquare.org/events-calendar/nerd-halen-featuring-hal-sparks/
END:VEVENT
END:VCALENDAR